BEGIN:VCALENDAR
VERSION:2.0
PRODID:-//Arroyo Cellars - ECPv6.15.20//NONSGML v1.0//EN
CALSCALE:GREGORIAN
METHOD:PUBLISH
X-WR-CALNAME:Arroyo Cellars
X-ORIGINAL-URL:https://www.arroyocellars.com
X-WR-CALDESC:Events for Arroyo Cellars
REFRESH-INTERVAL;VALUE=DURATION:PT1H
X-Robots-Tag:noindex
X-PUBLISHED-TTL:PT1H
BEGIN:VTIMEZONE
TZID:America/Los_Angeles
BEGIN:DAYLIGHT
TZOFFSETFROM:-0800
TZOFFSETTO:-0700
TZNAME:PDT
DTSTART:20230312T100000
END:DAYLIGHT
BEGIN:STANDARD
TZOFFSETFROM:-0700
TZOFFSETTO:-0800
TZNAME:PST
DTSTART:20231105T090000
END:STANDARD
BEGIN:DAYLIGHT
TZOFFSETFROM:-0800
TZOFFSETTO:-0700
TZNAME:PDT
DTSTART:20240310T100000
END:DAYLIGHT
BEGIN:STANDARD
TZOFFSETFROM:-0700
TZOFFSETTO:-0800
TZNAME:PST
DTSTART:20241103T090000
END:STANDARD
BEGIN:DAYLIGHT
TZOFFSETFROM:-0800
TZOFFSETTO:-0700
TZNAME:PDT
DTSTART:20250309T100000
END:DAYLIGHT
BEGIN:STANDARD
TZOFFSETFROM:-0700
TZOFFSETTO:-0800
TZNAME:PST
DTSTART:20251102T090000
END:STANDARD
END:VTIMEZONE
BEGIN:VEVENT
DTSTART;TZID=America/Los_Angeles:20241109T120000
DTEND;TZID=America/Los_Angeles:20241109T170000
DTSTAMP:20260421T031648
CREATED:20241102T170745Z
LAST-MODIFIED:20241109T235833Z
UID:1070-1731153600-1731171600@www.arroyocellars.com
SUMMARY:Veteran's Day (military free tasting all weekend)
DESCRIPTION:John & Nancy hosting
URL:https://www.arroyocellars.com/event/veterans-day-military-free-tasting-all-weekend/
LOCATION:Arroyo Cellars Winery\, 2270 Research Dr\, Livermore\, California\, 94550\, United States
ATTACH;FMTTYPE=image/png:https://www.arroyocellars.com/wp-content/uploads/2024/11/veterans-day-580x387-1.png
END:VEVENT
BEGIN:VEVENT
DTSTART;TZID=America/Los_Angeles:20241109T163000
DTEND;TZID=America/Los_Angeles:20241109T183000
DTSTAMP:20260421T031648
CREATED:20241104T230057Z
LAST-MODIFIED:20241104T230245Z
UID:1098-1731169800-1731177000@www.arroyocellars.com
SUMMARY:Wine Blending Class
DESCRIPTION:$95/person charge \nDuring this event\, you will have the opportunity to taste hand-selected samples and create your own custom blend. Our winemaker(s) will discuss each sample\, and then you will be able to create your own blend. To enjoy your creation later\, you will fill a bottle\, insert a cork\, and add your own custom label. You are welcome to bring a small bite to taste with your creation. \nClasses limited to 4 to 10 participants. \nEmail info@arroyocellars.com to reserve your spot.
URL:https://www.arroyocellars.com/event/wine-blending-class/
LOCATION:Arroyo Cellars Winery\, 2270 Research Dr\, Livermore\, California\, 94550\, United States
END:VEVENT
END:VCALENDAR